BEGIN:VCALENDAR
PRODID:-//kirchenweb.ch gmbh//veranstaltungsausgabe v2.0//DE
VERSION:2.0
METHOD:PUBLISH
BEGIN:VEVENT
DTSTART:20260601T151000Z
DTEND:20260601T164000Z
LOCATION:Einkehrsaal\, Strählgass 7\, 8475 Ossingen
TRANSP:OPAQUE
SEQUENCE:0
UID:4791-veranstaltung@kirche-wm.ch
DTSTAMP:20250810T115818Z
DESCRIPTION:Kirchlicher minichile (2. Klasse) + 3. Klass-Unti\n\nKontakt:
  Karin Schmid\n\nWeitere Infos:
  https://www.kirche-wm.ch/veranstaltung/4791
SUMMARY:minichile + 3. Klass-Unti Ossingen und Truttikon
PRIORITY:5
X-MICROSOFT-CDO-IMPORTANCE:1
CLASS:PUBLIC
END:VEVENT
END:VCALENDAR
