BEGIN:VCALENDAR
PRODID:-//kirchenweb.ch gmbh//veranstaltungsausgabe v2.0//DE
VERSION:2.0
METHOD:PUBLISH
BEGIN:VEVENT
DTSTART:20260626T113000Z
DTEND:20260626T134500Z
LOCATION:Schulhaus\, Schulstrasse 13\, 8462 Rheinau
TRANSP:OPAQUE
SEQUENCE:0
UID:4802-veranstaltung@kirche-wm.ch
DTSTAMP:20250810T130308Z
DESCRIPTION:minichile (2.Klasse) + 3. Klass-Unti Rheinau\n\n\nKontakt:
  Monika Nägeli\n\nWeitere Infos:
  https://www.kirche-wm.ch/veranstaltung/4802
SUMMARY:minichile + 3. Klass-Unti Rheinau
PRIORITY:5
X-MICROSOFT-CDO-IMPORTANCE:1
CLASS:PUBLIC
END:VEVENT
END:VCALENDAR
