BEGIN:VCALENDAR
PRODID:-//kirchenweb.ch gmbh//veranstaltungsausgabe v2.0//DE
VERSION:2.0
METHOD:PUBLISH
BEGIN:VEVENT
DTSTART:20260522T113000Z
DTEND:20260522T134500Z
LOCATION:Primarschulhaus Trüllikon\, Pfannenstil 7\, 8466 Trüllikon
TRANSP:OPAQUE
SEQUENCE:0
UID:4810-veranstaltung@kirche-wm.ch
DTSTAMP:20250810T130722Z
DESCRIPTION:minichile (2. Klasse) + 3. Klass-Unti\n\nKontakt: Monika
  Nägeli\n\nWeitere Infos: https://www.kirche-wm.ch/veranstaltung/4810
SUMMARY:minichile + 3. Klass-Unti Trüllikon
PRIORITY:5
X-MICROSOFT-CDO-IMPORTANCE:1
CLASS:PUBLIC
END:VEVENT
END:VCALENDAR
