BEGIN:VCALENDAR
PRODID:-//kirchenweb.ch gmbh//veranstaltungsausgabe v2.0//DE
VERSION:2.0
METHOD:PUBLISH
BEGIN:VEVENT
DTSTART:20260414T100500Z
DTEND:20260414T111000Z
LOCATION:Begegnungsraum Kirche\, Schlossgasse\, 8466 Trüllikon
TRANSP:OPAQUE
SEQUENCE:0
UID:4840-veranstaltung@kirche-wm.ch
DTSTAMP:20250819T140737Z
DESCRIPTION:Mittagstisch für 4.- bis 6.-Klässler der Primarschule
  Trüllikon\nWeitere Informationen siehe
  https://www.kirche-wm.ch/mittagstisch\n\nKontakt: Mike Gray\n\nWeitere
  Infos: https://www.kirche-wm.ch/veranstaltung/4840
SUMMARY:Mittagstisch 4.- bis 6.-Klässler
PRIORITY:5
X-MICROSOFT-CDO-IMPORTANCE:1
CLASS:PUBLIC
END:VEVENT
END:VCALENDAR
