BEGIN:VCALENDAR
PRODID:-//kirchenweb.ch gmbh//veranstaltungsausgabe v2.0//DE
VERSION:2.0
METHOD:PUBLISH
BEGIN:VEVENT
DTSTART:20260628T150000Z
DTEND:20260628T160000Z
LOCATION:Bergkirche\, Schulstrasse\, 8462 Rheinau
TRANSP:OPAQUE
SEQUENCE:0
UID:4859-veranstaltung@kirche-wm.ch
DTSTAMP:20260302T083508Z
DESCRIPTION:Kontakt: Adelheid Wild (adelheid.wild@bluewin.ch)\n\nWeitere
  Infos: https://www.kirche-wm.ch/veranstaltung/4859
SUMMARY:Konzert Gemischter Chor Rheinau
PRIORITY:5
X-MICROSOFT-CDO-IMPORTANCE:1
CLASS:PUBLIC
END:VEVENT
END:VCALENDAR
