BEGIN:VCALENDAR
PRODID:-//kirchenweb.ch gmbh//veranstaltungsausgabe v2.0//DE
VERSION:2.0
METHOD:PUBLISH
BEGIN:VEVENT
DTSTART:20261107T090000Z
DTEND:20261107T100000Z
LOCATION:Kirche\, Strählgass\, 8475 Ossingen
TRANSP:OPAQUE
SEQUENCE:0
UID:4910-veranstaltung@kirche-wm.ch
DTSTAMP:20260107T090512Z
DESCRIPTION:Ökumenische Kinderfeier für die Kleinsten (3 - 7 Jahre) und
  ihre Eltern\, Grosseltern\, ...\n\nKontakt: Joëlle Schmid und Team\n
 \nWeitere Infos: https://www.kirche-wm.ch/veranstaltung/4910
SUMMARY:Fiire mit de Chliine Truttikon und Ossingen
PRIORITY:5
X-MICROSOFT-CDO-IMPORTANCE:1
CLASS:PUBLIC
END:VEVENT
END:VCALENDAR
