BEGIN:VCALENDAR
PRODID:-//kirchenweb.ch gmbh//veranstaltungsausgabe v2.0//DE
VERSION:2.0
METHOD:PUBLISH
BEGIN:VEVENT
DTSTART:20260603T170000Z
DTEND:20260603T174500Z
LOCATION:Spitzkirche\, Klosterinsel\, 8462 Rheinau
TRANSP:OPAQUE
SEQUENCE:0
UID:4977-veranstaltung@kirche-wm.ch
DTSTAMP:20251209T144339Z
DESCRIPTION:Weitere Informationen zu https://www.kirche-wm.ch/frieden\n
 \nKontakt: Rahel Schönberger\nVerantwortlich: Rahel Schönberger\n
 \nWeitere Infos: https://www.kirche-wm.ch/veranstaltung/4977
SUMMARY:Zeichen für den Frieden
PRIORITY:5
X-MICROSOFT-CDO-IMPORTANCE:1
CLASS:PUBLIC
END:VEVENT
END:VCALENDAR
