BEGIN:VCALENDAR
PRODID:-//kirchenweb.ch gmbh//veranstaltungsausgabe v2.0//DE
VERSION:2.0
METHOD:PUBLISH
BEGIN:VEVENT
DTSTART:20260701T170000Z
DTEND:20260701T174500Z
LOCATION:Kirche\, Schlossgasse\, 8466 Trüllikon
TRANSP:OPAQUE
SEQUENCE:0
UID:4979-veranstaltung@kirche-wm.ch
DTSTAMP:20251027T124510Z
DESCRIPTION:Weitere Informationen zu https://www.kirche-wm.ch/frieden\n
 \nKontakt: Rahel Schönberger\nVerantwortlich: Ursula Trachsler\n\nWeitere
  Infos: https://www.kirche-wm.ch/veranstaltung/4979
SUMMARY:Zeichen für den Frieden
PRIORITY:5
X-MICROSOFT-CDO-IMPORTANCE:1
CLASS:PUBLIC
END:VEVENT
END:VCALENDAR
