BEGIN:VCALENDAR
PRODID:-//kirchenweb.ch gmbh//veranstaltungsausgabe v2.0//DE
VERSION:2.0
METHOD:PUBLISH
BEGIN:VEVENT
DTSTART:20260902T170000Z
DTEND:20260902T174500Z
LOCATION:Kirche\, Strählgass\, 8475 Ossingen
TRANSP:OPAQUE
SEQUENCE:0
UID:4981-veranstaltung@kirche-wm.ch
DTSTAMP:20251027T124740Z
DESCRIPTION:Weitere Informationen zu https://www.kirche-wm.ch/frieden\n
 \nKontakt: Rahel Schönberger\nVerantwortlich: Rahel Schönberger\n
 \nWeitere Infos: https://www.kirche-wm.ch/veranstaltung/4981
SUMMARY:Zeichen für den Frieden
PRIORITY:5
X-MICROSOFT-CDO-IMPORTANCE:1
CLASS:PUBLIC
END:VEVENT
END:VCALENDAR
