BEGIN:VCALENDAR
PRODID:-//kirchenweb.ch gmbh//veranstaltungsausgabe v2.0//DE
VERSION:2.0
METHOD:PUBLISH
BEGIN:VEVENT
DTSTART:20261007T170000Z
DTEND:20261007T174500Z
LOCATION:Kirche\, Landstrasse\, 8463 Benken ZH
TRANSP:OPAQUE
SEQUENCE:0
UID:4982-veranstaltung@kirche-wm.ch
DTSTAMP:20251027T124912Z
DESCRIPTION:Weitere Informationen zu https://www.kirche-wm.ch/frieden\n
 \nKontakt: Rahel Schönberger\n\n\nWeitere Infos:
  https://www.kirche-wm.ch/veranstaltung/4982
SUMMARY:Zeichen für den Frieden
PRIORITY:5
X-MICROSOFT-CDO-IMPORTANCE:1
CLASS:PUBLIC
END:VEVENT
END:VCALENDAR
