BEGIN:VCALENDAR
PRODID:-//kirchenweb.ch gmbh//veranstaltungsausgabe v2.0//DE
VERSION:2.0
METHOD:PUBLISH
BEGIN:VEVENT
DTSTART:20261104T180000Z
DTEND:20261104T184500Z
LOCATION:Kirche\, Hauptstrasse\, 8467 Truttikon
TRANSP:OPAQUE
SEQUENCE:0
UID:4983-veranstaltung@kirche-wm.ch
DTSTAMP:20251216T090241Z
DESCRIPTION:Weitere Informationen zu https://www.kirche-wm.ch/frieden\n
 \nKontakt: Rahel Schönberger\nVerantwortlich: Ursula Trachsler\, Renate
  Kolb\n\nWeitere Infos: https://www.kirche-wm.ch/veranstaltung/4983
SUMMARY:Zeichen für den Frieden
PRIORITY:5
X-MICROSOFT-CDO-IMPORTANCE:1
CLASS:PUBLIC
END:VEVENT
END:VCALENDAR
