BEGIN:VCALENDAR
PRODID:-//kirchenweb.ch gmbh//veranstaltungsausgabe v2.0//DE
VERSION:2.0
METHOD:PUBLISH
BEGIN:VEVENT
DTSTART:20261202T180000Z
DTEND:20261202T184500Z
LOCATION:Kirche\, Schlossgasse\, 8466 Trüllikon
TRANSP:OPAQUE
SEQUENCE:0
UID:4984-veranstaltung@kirche-wm.ch
DTSTAMP:20251027T125753Z
DESCRIPTION:Mit dem Kirchenchor Trüllikon-Truttikon\n\nWeitere
  Informationen zu https://www.kirche-wm.ch/frieden\n\nKontakt: Rahel
  Schönberger\nVerantwortlich: Renate Kolb\, Rahel Schönberger\n\nWeitere
  Infos: https://www.kirche-wm.ch/veranstaltung/4984
SUMMARY:Singen für den Frieden
PRIORITY:5
X-MICROSOFT-CDO-IMPORTANCE:1
CLASS:PUBLIC
END:VEVENT
END:VCALENDAR
