BEGIN:VCALENDAR
PRODID:-//kirchenweb.ch gmbh//veranstaltungsausgabe v2.0//DE
VERSION:2.0
METHOD:PUBLISH
BEGIN:VEVENT
DTSTART:20260807T060000Z
DTEND:20260807T150000Z
LOCATION:Spitzkirche\, Klosterinsel\, 8462 Rheinau
TRANSP:OPAQUE
SEQUENCE:0
UID:4995-veranstaltung@kirche-wm.ch
DTSTAMP:20251103T083821Z
DESCRIPTION:Kontakt: Sr. Benedicta\n052 305 43 50\n\nWeitere Infos:
  https://www.kirche-wm.ch/veranstaltung/4995
SUMMARY:Gebetstag
PRIORITY:5
X-MICROSOFT-CDO-IMPORTANCE:1
CLASS:PUBLIC
END:VEVENT
END:VCALENDAR
