BEGIN:VCALENDAR
PRODID:-//kirchenweb.ch gmbh//veranstaltungsausgabe v2.0//DE
VERSION:2.0
METHOD:PUBLISH
BEGIN:VEVENT
DTSTART:20261107T110000Z
DTEND:20261107T160000Z
LOCATION:Spitzkirche\, Klosterinsel\, 8462 Rheinau
TRANSP:OPAQUE
SEQUENCE:0
UID:4999-veranstaltung@kirche-wm.ch
DTSTAMP:20251103T085132Z
DESCRIPTION:Einrichten für Gebetstag vom 8.11.2026\n\nKontakt: Sr.
  Benedicta\n052 305 43 50\n\nWeitere Infos:
  https://www.kirche-wm.ch/veranstaltung/4999
SUMMARY:Gebetstag
PRIORITY:5
X-MICROSOFT-CDO-IMPORTANCE:1
CLASS:PUBLIC
END:VEVENT
END:VCALENDAR
