BEGIN:VCALENDAR
PRODID:-//kirchenweb.ch gmbh//veranstaltungsausgabe v2.0//DE
VERSION:2.0
METHOD:PUBLISH
BEGIN:VEVENT
DTSTART:20260604T070000Z
DTEND:20260604T090000Z
LOCATION:Begegnungsraum Kirche\, Schlossgasse\, 8466 Trüllikon
TRANSP:OPAQUE
SEQUENCE:0
UID:5013-veranstaltung@kirche-wm.ch
DTSTAMP:20251105T101100Z
DESCRIPTION:Ein wichtiger Treffpunkt für Mütter\, Väter oder
  Grosseltern mit Kindern bis zum Kindergarteneintritt ...\n
 \nhttps://www.kirche-wm.ch/knirpsentreff\n\nKontakt:
  susanne.egloff@kirche-wm.ch\n\nWeitere Infos:
  https://www.kirche-wm.ch/veranstaltung/5013
SUMMARY:Knirpsentreff Trüllikon
PRIORITY:5
X-MICROSOFT-CDO-IMPORTANCE:1
CLASS:PUBLIC
END:VEVENT
END:VCALENDAR
