BEGIN:VCALENDAR
PRODID:-//kirchenweb.ch gmbh//veranstaltungsausgabe v2.0//DE
VERSION:2.0
METHOD:PUBLISH
BEGIN:VEVENT
DTSTART:20260530T083000Z
DTEND:20260530T113000Z
LOCATION:Kirchgemeindezentrum\, Poststrasse 6\, 8462 Rheinau
TRANSP:OPAQUE
SEQUENCE:0
UID:5045-veranstaltung@kirche-wm.ch
DTSTAMP:20251126T064410Z
DESCRIPTION:Kontakt: Sonja Gugelmann\, sonja.gugelmann@kirche-wm.ch\, 079
  766 39 10\n\n\n\nWeitere Infos:
  https://www.kirche-wm.ch/veranstaltung/5045
SUMMARY:Ökumenischer Kinderklub
PRIORITY:5
X-MICROSOFT-CDO-IMPORTANCE:1
CLASS:PUBLIC
END:VEVENT
END:VCALENDAR
