BEGIN:VCALENDAR
PRODID:-//kirchenweb.ch gmbh//veranstaltungsausgabe v2.0//DE
VERSION:2.0
METHOD:PUBLISH
BEGIN:VEVENT
DTSTART:20260620T083000Z
DTEND:20260620T093000Z
LOCATION:Reise - Einladung folgt\, \,
TRANSP:OPAQUE
SEQUENCE:0
UID:5046-veranstaltung@kirche-wm.ch
DTSTAMP:20251126T065147Z
DESCRIPTION:Kontakt: Sonja Gugelmann\, sonja.gugelmann@kirche-wm.ch\, 079
  766 39 10\n\n\n\nWeitere Infos:
  https://www.kirche-wm.ch/veranstaltung/5046
SUMMARY:Ökumenischer Kinderklub - Reise
PRIORITY:5
X-MICROSOFT-CDO-IMPORTANCE:1
CLASS:PUBLIC
END:VEVENT
END:VCALENDAR
