BEGIN:VCALENDAR
PRODID:-//kirchenweb.ch gmbh//veranstaltungsausgabe v2.0//DE
VERSION:2.0
METHOD:PUBLISH
BEGIN:VEVENT
DTSTART:20260520T100000Z
DTEND:20260520T110000Z
LOCATION:Begegnungsraum Kirche\, Schlossgasse\, 8466 Trüllikon
TRANSP:OPAQUE
SEQUENCE:0
UID:5055-veranstaltung@kirche-wm.ch
DTSTAMP:20260407T113459Z
DESCRIPTION:Ein Mittagessen für alle Generationen. \n\nFlyer /dok/0506
  herunterladen \n\nKontakt: Lotti Gugelmann\n\nWeitere Infos:
  https://www.kirche-wm.ch/veranstaltung/5055
SUMMARY:Mittagstisch 0-100 plus
PRIORITY:5
X-MICROSOFT-CDO-IMPORTANCE:1
CLASS:PUBLIC
END:VEVENT
END:VCALENDAR
