BEGIN:VCALENDAR
PRODID:-//kirchenweb.ch gmbh//veranstaltungsausgabe v2.0//DE
VERSION:2.0
METHOD:PUBLISH
BEGIN:VEVENT
DTSTART:20260916T100000Z
DTEND:20260916T110000Z
LOCATION:Begegnungsraum Kirche\, Schlossgasse\, 8466 Trüllikon
TRANSP:OPAQUE
SEQUENCE:0
UID:5056-veranstaltung@kirche-wm.ch
DTSTAMP:20251201T073734Z
DESCRIPTION:Ein Mittagessen für alle Generationen. \n\nKontakt: Lotti
  Gugelmann\n\nWeitere Infos: https://www.kirche-wm.ch/veranstaltung/5056
SUMMARY:Mittagstisch 0-100 plus
PRIORITY:5
X-MICROSOFT-CDO-IMPORTANCE:1
CLASS:PUBLIC
END:VEVENT
END:VCALENDAR
