BEGIN:VCALENDAR
PRODID:-//kirchenweb.ch gmbh//veranstaltungsausgabe v2.0//DE
VERSION:2.0
METHOD:PUBLISH
BEGIN:VEVENT
DTSTART:20260704T173000Z
DTEND:20260704T200000Z
LOCATION:Benken\, Landstrasse 7\, 8463 Benken ZH
TRANSP:OPAQUE
SEQUENCE:0
UID:5069-veranstaltung@kirche-wm.ch
DTSTAMP:20251201T091118Z
DESCRIPTION:Im Jugendraum gibt es Platz für lustige Abende mit deinen
  Freunden sowie für ordentliche Discostimmung. An der Bar\, welche vom
  Leiterteam betreut wird\, gibt es an dein Sackgeld angepasste Getränke
  und Drinks.\n(Ab 6. Klasse und Oberstufenalter)\n\nLink zur Infoseite des
  https://www.kirche-wm.ch/jugendraum\n\nKontakt: Matthias König\n
 \nWeitere Infos: https://www.kirche-wm.ch/veranstaltung/5069
SUMMARY:Jugendraum Benken
PRIORITY:5
X-MICROSOFT-CDO-IMPORTANCE:1
CLASS:PUBLIC
END:VEVENT
END:VCALENDAR
