BEGIN:VCALENDAR
PRODID:-//kirchenweb.ch gmbh//veranstaltungsausgabe v2.0//DE
VERSION:2.0
METHOD:PUBLISH
BEGIN:VEVENT
DTSTART:20260522T073000Z
DTEND:20260522T083000Z
LOCATION:Spielplatz beim Mehrzweckgebäude\, \, 8462 Rheinau
TRANSP:OPAQUE
SEQUENCE:0
UID:5078-veranstaltung@kirche-wm.ch
DTSTAMP:20251201T102125Z
DESCRIPTION:Eltern mit Kindern im Vorschulalter treffen sich zu Spiel und
  Austausch.\n\nKontakt: Julian Klein\n078 854 18 01\n\n\nWeitere Infos:
  https://www.kirche-wm.ch/veranstaltung/5078
SUMMARY:Elterntreff
PRIORITY:5
X-MICROSOFT-CDO-IMPORTANCE:1
CLASS:PUBLIC
END:VEVENT
END:VCALENDAR
