BEGIN:VCALENDAR
PRODID:-//kirchenweb.ch gmbh//veranstaltungsausgabe v2.0//DE
VERSION:2.0
METHOD:PUBLISH
BEGIN:VEVENT
DTSTART:20260627T080000Z
DTEND:20260627T093000Z
LOCATION:Kirche\, Landstrasse\, 8463 Benken ZH
TRANSP:OPAQUE
SEQUENCE:0
UID:5091-veranstaltung@kirche-wm.ch
DTSTAMP:20260420T130721Z
DESCRIPTION:Ökumenische Kinderfeier mit Singen\, Beten\, Basteln und
  Geschichte hören.\nWeitere Informationen zum
  https://www.kirche-wm.ch/benken_kolibri\n\nKontakt: Mirjam Toggenburger\n
 \nWeitere Infos: https://www.kirche-wm.ch/veranstaltung/5091
SUMMARY:Kolibri für Gross und Chlii Benken
PRIORITY:5
X-MICROSOFT-CDO-IMPORTANCE:1
CLASS:PUBLIC
END:VEVENT
END:VCALENDAR
