BEGIN:VCALENDAR
PRODID:-//kirchenweb.ch gmbh//veranstaltungsausgabe v2.0//DE
VERSION:2.0
METHOD:PUBLISH
BEGIN:VEVENT
DTSTART:20260829T073000Z
DTEND:20260829T093000Z
LOCATION:Kirche\, Schlossgasse\, 8466 Trüllikon
TRANSP:OPAQUE
SEQUENCE:0
UID:5092-veranstaltung@kirche-wm.ch
DTSTAMP:20251222T130327Z
DESCRIPTION:Kolibrifest in Trüllikon - Informationen folgen\n\nKontakt:
  Mirjam Toggenburger\nRahel Schönberger\n\nWeitere Infos:
  https://www.kirche-wm.ch/veranstaltung/5092
SUMMARY:Kolibrifest\, Fiire mit de Chliine für alle Dörfer
PRIORITY:5
X-MICROSOFT-CDO-IMPORTANCE:1
CLASS:PUBLIC
END:VEVENT
END:VCALENDAR
