BEGIN:VCALENDAR
PRODID:-//kirchenweb.ch gmbh//veranstaltungsausgabe v2.0//DE
VERSION:2.0
METHOD:PUBLISH
BEGIN:VEVENT
DTSTART:20260424T170000Z
DTEND:20260424T180000Z
LOCATION:Kirche\, Hauptstrasse\, 8467 Truttikon
TRANSP:OPAQUE
SEQUENCE:0
UID:5100-veranstaltung@kirche-wm.ch
DTSTAMP:20260120T133139Z
DESCRIPTION:Mit modernen und alten Kirchenliedern möchten wir Gott loben
  und uns auftanken für den ganzen Monat.\n\nNormalerweise am letzten
  Freitag im Monat in der Kirche Truttikon.\nWeitere Informationen siehe
  https://www.kirche-wm.ch/auftanken\n\nKontakt: Christian Moro\n\nWeitere
  Infos: https://www.kirche-wm.ch/veranstaltung/5100
SUMMARY:Auftanken
PRIORITY:5
X-MICROSOFT-CDO-IMPORTANCE:1
CLASS:PUBLIC
END:VEVENT
END:VCALENDAR
