BEGIN:VCALENDAR
PRODID:-//kirchenweb.ch gmbh//veranstaltungsausgabe v2.0//DE
VERSION:2.0
METHOD:PUBLISH
BEGIN:VEVENT
DTSTART:20260625T094500Z
DTEND:20260625T104500Z
LOCATION:Rest. Salmen\, \, 8462 Rheinau
TRANSP:OPAQUE
SEQUENCE:0
UID:5126-veranstaltung@kirche-wm.ch
DTSTAMP:20251211T062747Z
DESCRIPTION:Jeweils am letzten Donnerstag im Monat (ohne Dezember)\n
 \nAnmeldung: 052 319 12 52 (Rest. Salmen)\n\nKontakt: Pro Senectute
  Rheinau\n\nWeitere Infos: https://www.kirche-wm.ch/veranstaltung/5126
SUMMARY:Seniorenmittagessen Rheinau
PRIORITY:5
X-MICROSOFT-CDO-IMPORTANCE:1
CLASS:PUBLIC
END:VEVENT
END:VCALENDAR
