BEGIN:VCALENDAR
PRODID:-//kirchenweb.ch gmbh//veranstaltungsausgabe v2.0//DE
VERSION:2.0
METHOD:PUBLISH
BEGIN:VEVENT
DTSTART:20261024T073000Z
DTEND:20261024T083000Z
LOCATION:Kirche\, Pfarrwegli\, 8460 Marthalen
TRANSP:OPAQUE
SEQUENCE:0
UID:5136-veranstaltung@kirche-wm.ch
DTSTAMP:20251215T070928Z
DESCRIPTION:Ökumenische Kinderfeier für die Kleinsten (3 - 7 Jahre) und
  ihre Eltern\, Grosseltern\, ...\nWeitere Infos zum
  https://www.kirche-wm.ch/kolibri_marthalen\n\nKontakt: Claudia
  Wipf-Flacher\n\nWeitere Infos:
  https://www.kirche-wm.ch/veranstaltung/5136
SUMMARY:Kolibri für Gross und Chlii Marthalen
PRIORITY:5
X-MICROSOFT-CDO-IMPORTANCE:1
CLASS:PUBLIC
END:VEVENT
END:VCALENDAR
