BEGIN:VCALENDAR
PRODID:-//kirchenweb.ch gmbh//veranstaltungsausgabe v2.0//DE
VERSION:2.0
METHOD:PUBLISH
BEGIN:VEVENT
DTSTART:20260412T170000Z
DTEND:20260412T190000Z
LOCATION:Kirche\, Pfarrwegli\, 8460 Marthalen
TRANSP:OPAQUE
SEQUENCE:0
UID:5198-veranstaltung@kirche-wm.ch
DTSTAMP:20251216T104549Z
DESCRIPTION:Eintritt frei\n\nKontakt: Marianne Klingenhegel\n\nWeitere
  Infos: https://www.kirche-wm.ch/veranstaltung/5198
SUMMARY:Konzert Musikverein Helvetia
PRIORITY:5
X-MICROSOFT-CDO-IMPORTANCE:1
CLASS:PUBLIC
END:VEVENT
END:VCALENDAR
