BEGIN:VCALENDAR
PRODID:-//kirchenweb.ch gmbh//veranstaltungsausgabe v2.0//DE
VERSION:2.0
METHOD:PUBLISH
BEGIN:VEVENT
DTSTART:20260606T080000Z
DTEND:20260606T093000Z
LOCATION:Kirche\, Schlossgasse\, 8466 Trüllikon
TRANSP:OPAQUE
SEQUENCE:0
UID:5201-veranstaltung@kirche-wm.ch
DTSTAMP:20260420T131436Z
DESCRIPTION:Fiire mit de Chliine\n\nKontakt: Rahel Schönberger\n\nWeitere
  Infos: https://www.kirche-wm.ch/veranstaltung/5201
SUMMARY:Fiire mit de Chliine Trüllikon
PRIORITY:5
X-MICROSOFT-CDO-IMPORTANCE:1
CLASS:PUBLIC
END:VEVENT
END:VCALENDAR
