BEGIN:VCALENDAR
PRODID:-//kirchenweb.ch gmbh//veranstaltungsausgabe v2.0//DE
VERSION:2.0
METHOD:PUBLISH
BEGIN:VEVENT
DTSTART:20261215T050000Z
DTEND:20261215T060000Z
LOCATION:Bergkirche\, Schulstrasse\, 8462 Rheinau
TRANSP:OPAQUE
SEQUENCE:0
UID:5436-veranstaltung@kirche-wm.ch
DTSTAMP:20251223T100233Z
DESCRIPTION:Kontakt: Beatrix Zureich\, 052 319 31 00\n\nWeitere Infos:
  https://www.kirche-wm.ch/veranstaltung/5436
SUMMARY:Kath Rorate Gottesdienst
PRIORITY:5
X-MICROSOFT-CDO-IMPORTANCE:1
CLASS:PUBLIC
END:VEVENT
END:VCALENDAR
