BEGIN:VCALENDAR
PRODID:-//kirchenweb.ch gmbh//veranstaltungsausgabe v2.0//DE
VERSION:2.0
METHOD:PUBLISH
BEGIN:VEVENT
DTSTART:20261220T183000Z
DTEND:20261220T193000Z
LOCATION:Kirche\, Landstrasse\, 8463 Benken ZH
TRANSP:OPAQUE
SEQUENCE:0
UID:5572-veranstaltung@kirche-wm.ch
DTSTAMP:20260112T073543Z
DESCRIPTION:Kontakt: Christine Keller\, Truttikon\n\nWeitere Infos:
  https://www.kirche-wm.ch/veranstaltung/5572
SUMMARY:Advenstkonzert Gemischter Chor Viva Kirche
PRIORITY:5
X-MICROSOFT-CDO-IMPORTANCE:1
CLASS:PUBLIC
END:VEVENT
END:VCALENDAR
