BEGIN:VCALENDAR
PRODID:-//kirchenweb.ch gmbh//veranstaltungsausgabe v2.0//DE
VERSION:2.0
METHOD:PUBLISH
BEGIN:VEVENT
DTSTART:20260613T083000Z
DTEND:20260613T103000Z
LOCATION:Kirche\, Strählgass\, 8475 Ossingen
TRANSP:OPAQUE
SEQUENCE:0
UID:5576-veranstaltung@kirche-wm.ch
DTSTAMP:20260414T105237Z
DESCRIPTION:Konf-Unti Hauptprobe\n\nWir feiern 3
  Konfirmationsgottesdienste\nBenken\, 24. Mai\, Marthalen 31. Mai\,
  Ossingen\, 14. Juni 2026.\n\nKontakt: Renate Bosshard\n\n\n\nWeitere
  Infos: https://www.kirche-wm.ch/veranstaltung/5576
SUMMARY:Konf-Vorbereitung
PRIORITY:5
X-MICROSOFT-CDO-IMPORTANCE:1
CLASS:PUBLIC
END:VEVENT
END:VCALENDAR
