BEGIN:VCALENDAR
PRODID:-//kirchenweb.ch gmbh//veranstaltungsausgabe v2.0//DE
VERSION:2.0
METHOD:PUBLISH
BEGIN:VEVENT
DTSTART:20261128T183000Z
DTEND:20261128T200000Z
LOCATION:Kirche\, Landstrasse\, 8463 Benken ZH
TRANSP:OPAQUE
SEQUENCE:0
UID:5585-veranstaltung@kirche-wm.ch
DTSTAMP:20260121T070008Z
DESCRIPTION:Kontakt: Trevor J. Roling\n\nWeitere Infos:
  https://www.kirche-wm.ch/veranstaltung/5585
SUMMARY:Konzert Grand Gospel Chor
PRIORITY:5
X-MICROSOFT-CDO-IMPORTANCE:1
CLASS:PUBLIC
END:VEVENT
END:VCALENDAR
