BEGIN:VCALENDAR
PRODID:-//kirchenweb.ch gmbh//veranstaltungsausgabe v2.0//DE
VERSION:2.0
METHOD:PUBLISH
BEGIN:VEVENT
DTSTART:20260422T180000Z
DTEND:20260422T190000Z
LOCATION:Mehrzweckhalle\, Zinggestrass 18\, 8460 Marthalen
TRANSP:OPAQUE
SEQUENCE:0
UID:5593-veranstaltung@kirche-wm.ch
DTSTAMP:20260119T130243Z
DESCRIPTION:Die Adonia-Teens-Chöre sind jeweils im Frühling auf
  Konzerttournee. Mit 70 Sängerinnen und Sängern sind sie in der
  Mehrzweckhalle Marthalen zu Gast. Mit packender Musik und einer Botschaft
  voller Mut\, Liebe und Sehnsucht erzählt das Musical "Rahab" die
  Geschichte einer der faszinierendsten Figuren der Bibel.\n\nDas
  Konzerterlebnis für die ganze Familie mit viel Herzblut und Leidenschaft
  inszeniert vom Adonia Teens-Chor mit Live -Band!\n\nEintritt frei –
  Kollekte \nhttp://www.adonia.ch/esra\n\n\nKontakt:
  susanne.egloff@kirche-wm.ch\n\nWeitere Infos:
  https://www.kirche-wm.ch/veranstaltung/5593
SUMMARY:Adonia-Konzert
PRIORITY:5
X-MICROSOFT-CDO-IMPORTANCE:1
CLASS:PUBLIC
END:VEVENT
END:VCALENDAR
