BEGIN:VCALENDAR
PRODID:-//kirchenweb.ch gmbh//veranstaltungsausgabe v2.0//DE
VERSION:2.0
METHOD:PUBLISH
BEGIN:VEVENT
DTSTART:20260412T081500Z
DTEND:20260412T091500Z
LOCATION:Psychiatrische Universitätsklinik\, Gebäude 90\, \, 8462
  Rheinau
TRANSP:OPAQUE
SEQUENCE:0
UID:5600-veranstaltung@kirche-wm.ch
DTSTAMP:20260120T072019Z
DESCRIPTION:Gottesdienst in der PUK\nRaum der Stille\, Gebäude 90\n
 \nKontakt: Pfr. Samuel Hertner\n\nWeitere Infos:
  https://www.kirche-wm.ch/veranstaltung/5600
SUMMARY:Gottesdienst in der PUK
PRIORITY:5
X-MICROSOFT-CDO-IMPORTANCE:1
CLASS:PUBLIC
END:VEVENT
END:VCALENDAR
