BEGIN:VCALENDAR
PRODID:-//kirchenweb.ch gmbh//veranstaltungsausgabe v2.0//DE
VERSION:2.0
METHOD:PUBLISH
BEGIN:VEVENT
DTSTART:20261108T160000Z
DTEND:20261108T180000Z
LOCATION:Kirche\, Pfarrwegli\, 8460 Marthalen
TRANSP:OPAQUE
SEQUENCE:0
UID:5627-veranstaltung@kirche-wm.ch
DTSTAMP:20260210T120846Z
DESCRIPTION:Kontakt: Daniel Hangartner 079 425 25 05\n\nWeitere Infos:
  https://www.kirche-wm.ch/veranstaltung/5627
SUMMARY:Konzert Brassband Posaunenchor Marthalen
PRIORITY:5
X-MICROSOFT-CDO-IMPORTANCE:1
CLASS:PUBLIC
END:VEVENT
END:VCALENDAR
