BEGIN:VCALENDAR
PRODID:-//kirchenweb.ch gmbh//veranstaltungsausgabe v2.0//DE
VERSION:2.0
METHOD:PUBLISH
BEGIN:VEVENT
DTSTART:20261124T173000Z
DTEND:20261124T190000Z
LOCATION:Einkehrsaal\, Strählgass 7\, 8475 Ossingen
TRANSP:OPAQUE
SEQUENCE:0
UID:5667-veranstaltung@kirche-wm.ch
DTSTAMP:20260211T091755Z
DESCRIPTION:In diesem Schuljahr findet der Konf-Unti in 2 Gruppen an zwei
  verschiedenen Wochentage\, in Ossingen oder Marthalen statt. Zudem werden
  an andern Wochentagen gemeinsame Besuche und Projekte durchgeführt.\n
 \nKontakt: Mike Gray\n\nWeitere Infos:
  https://www.kirche-wm.ch/veranstaltung/5667
SUMMARY:Konf-Unti in Ossingen
PRIORITY:5
X-MICROSOFT-CDO-IMPORTANCE:1
CLASS:PUBLIC
END:VEVENT
END:VCALENDAR
