BEGIN:VCALENDAR
PRODID:-//kirchenweb.ch gmbh//veranstaltungsausgabe v2.0//DE
VERSION:2.0
METHOD:PUBLISH
BEGIN:VEVENT
DTSTART:20260916T163000Z
DTEND:20260916T180000Z
LOCATION:Kirche\, Pfarrwegli\, 8460 Marthalen
TRANSP:OPAQUE
SEQUENCE:0
UID:5672-veranstaltung@kirche-wm.ch
DTSTAMP:20260316T090946Z
DESCRIPTION:In diesem Schuljahr findet der Konf-Unti in 2 Gruppen an zwei
  verschiedenen Wochentage\, in Ossingen oder Marthalen statt. Zudem werden
  an andern Wochentagen gemeinsame Besuche und Projekte durchgeführt.\n
 \nKontakt: Mike Gray\n\nWeitere Infos:
  https://www.kirche-wm.ch/veranstaltung/5672
SUMMARY:Konf-Unti in Marthalen
PRIORITY:5
X-MICROSOFT-CDO-IMPORTANCE:1
CLASS:PUBLIC
END:VEVENT
END:VCALENDAR
