BEGIN:VCALENDAR
PRODID:-//kirchenweb.ch gmbh//veranstaltungsausgabe v2.0//DE
VERSION:2.0
METHOD:PUBLISH
BEGIN:VEVENT
DTSTART:20261213T173000Z
DTEND:20261213T200000Z
LOCATION:Pfarrhaus\, Pfarrwegli 1\, 8460 Marthalen
TRANSP:OPAQUE
SEQUENCE:0
UID:5680-veranstaltung@kirche-wm.ch
DTSTAMP:20260211T092751Z
DESCRIPTION:Kontakt: Mike Gray\n\nWeitere Infos:
  https://www.kirche-wm.ch/veranstaltung/5680
SUMMARY:Konf-Unti Christmas Grill beim Pfarrhaus
PRIORITY:5
X-MICROSOFT-CDO-IMPORTANCE:1
CLASS:PUBLIC
END:VEVENT
END:VCALENDAR
