BEGIN:VCALENDAR
PRODID:-//kirchenweb.ch gmbh//veranstaltungsausgabe v2.0//DE
VERSION:2.0
METHOD:PUBLISH
BEGIN:VEVENT
DTSTART:20261227T160000Z
DTEND:20261227T170000Z
LOCATION:Kirche\, Hauptstrasse\, 8467 Truttikon
TRANSP:OPAQUE
SEQUENCE:0
UID:5681-veranstaltung@kirche-wm.ch
DTSTAMP:20260211T140803Z
DESCRIPTION:Anschliessend Begegnung\n\nFahrdienste\nZu den
  https://www.kirche-wm.ch/fahrdienst\n\nKontakt: Matthias Bordt\n\nWeitere
  Infos: https://www.kirche-wm.ch/veranstaltung/5681
SUMMARY:Singgottesdienst
PRIORITY:5
X-MICROSOFT-CDO-IMPORTANCE:1
CLASS:PUBLIC
END:VEVENT
END:VCALENDAR
