BEGIN:VCALENDAR
PRODID:-//kirchenweb.ch gmbh//veranstaltungsausgabe v2.0//DE
VERSION:2.0
METHOD:PUBLISH
BEGIN:VEVENT
DTSTART:20261127T190000Z
DTEND:20261127T200000Z
LOCATION:Kirche\, Schlossgasse\, 8466 Trüllikon
TRANSP:OPAQUE
SEQUENCE:0
UID:5710-veranstaltung@kirche-wm.ch
DTSTAMP:20260218T101532Z
DESCRIPTION:Konzert in der Kirche Trüllikon\nEintritt frei - Kollekte\n\n
 \nKontakt: www.oldironstompers.ch\n\nWeitere Infos:
  https://www.kirche-wm.ch/veranstaltung/5710
SUMMARY:Konzert Old Iron Stompers
PRIORITY:5
X-MICROSOFT-CDO-IMPORTANCE:1
CLASS:PUBLIC
END:VEVENT
END:VCALENDAR
