BEGIN:VCALENDAR
PRODID:-//kirchenweb.ch gmbh//veranstaltungsausgabe v2.0//DE
VERSION:2.0
METHOD:PUBLISH
BEGIN:VEVENT
DTSTART:20260525T122000Z
DTEND:20260525T132000Z
LOCATION:Bahnhof Andelfingen\, \,
TRANSP:OPAQUE
SEQUENCE:0
UID:5736-veranstaltung@kirche-wm.ch
DTSTAMP:20260316T072911Z
DESCRIPTION:Bitte beachten Sie dazu den Flyer der Bezirkskirchenpflege
  Andelfingen.\nFlyer /dok/0496 herunterladen \n\nKontakt: Iris Hug\,
  Bezirkskirchenpflegerin\, Tel. 052 301 42 01 / Natel 079 674 40 17\n
 \nWeitere Infos: https://www.kirche-wm.ch/veranstaltung/5736
SUMMARY:Nachmittagswanderung mit Pfingstandacht
PRIORITY:5
X-MICROSOFT-CDO-IMPORTANCE:1
CLASS:PUBLIC
END:VEVENT
END:VCALENDAR
