BEGIN:VCALENDAR
PRODID:-//kirchenweb.ch gmbh//veranstaltungsausgabe v2.0//DE
VERSION:2.0
METHOD:PUBLISH
BEGIN:VEVENT
DTSTART:20260417T173000Z
DTEND:20260417T183000Z
LOCATION:Kirche\, Pfarrwegli\, 8460 Marthalen
TRANSP:OPAQUE
SEQUENCE:0
UID:5741-veranstaltung@kirche-wm.ch
DTSTAMP:20260408T064915Z
DESCRIPTION:Marthalen 1126: Kirchenbau in bewegten Zeiten\nVortrag von
  Stephan Aregger\, Rheinau\n\nFlyer /dok/0507 herunterladen\n\nKontakt:
  Christian Lüthi\n\nWeitere Infos:
  https://www.kirche-wm.ch/veranstaltung/5741
SUMMARY:900 Jahre Kirche Marthalen - Vortrag
PRIORITY:5
X-MICROSOFT-CDO-IMPORTANCE:1
CLASS:PUBLIC
END:VEVENT
END:VCALENDAR
