BEGIN:VCALENDAR
PRODID:-//kirchenweb.ch gmbh//veranstaltungsausgabe v2.0//DE
VERSION:2.0
METHOD:PUBLISH
BEGIN:VEVENT
DTSTART:20260705T120000Z
DTEND:20260705T130000Z
LOCATION:Kirche\, Pfarrwegli\, 8460 Marthalen
TRANSP:OPAQUE
SEQUENCE:0
UID:5742-veranstaltung@kirche-wm.ch
DTSTAMP:20260317T085109Z
DESCRIPTION:Zwischen Aberglauben und Gottvertrauen: Die Marthaler und ihre
  Kirche im 17. Jahrhundert\nVortrag von Peter Niederhäuser\, Winterthur\n
 \nKontakt: Christian Lüthi\n\nWeitere Infos:
  https://www.kirche-wm.ch/veranstaltung/5742
SUMMARY:900 Jahre Kirche Marthalen - Vortrag
PRIORITY:5
X-MICROSOFT-CDO-IMPORTANCE:1
CLASS:PUBLIC
END:VEVENT
END:VCALENDAR
