BEGIN:VCALENDAR
PRODID:-//kirchenweb.ch gmbh//veranstaltungsausgabe v2.0//DE
VERSION:2.0
METHOD:PUBLISH
BEGIN:VEVENT
DTSTART:20260412T100000Z
DTEND:20260412T110000Z
LOCATION:Kath. Kirche\, Schaffhauserstrasse 61\, 8451 Kleinandelfingen
TRANSP:OPAQUE
SEQUENCE:0
UID:5743-veranstaltung@kirche-wm.ch
DTSTAMP:20260407T053717Z
DESCRIPTION:Flyer /dok/0501 herunterladen\n\nKontakt: Matthias Bordt\n
 \nWeitere Infos: https://www.kirche-wm.ch/veranstaltung/5743
SUMMARY:Motorrad-Gottesdienst Weinland
PRIORITY:5
X-MICROSOFT-CDO-IMPORTANCE:1
CLASS:PUBLIC
END:VEVENT
END:VCALENDAR
