BEGIN:VCALENDAR
PRODID:-//kirchenweb.ch gmbh//veranstaltungsausgabe v2.0//DE
VERSION:2.0
METHOD:PUBLISH
BEGIN:VEVENT
DTSTART:20260430T180000Z
DTEND:20260430T200000Z
LOCATION:Kirche\, Pfarrwegli\, 8460 Marthalen
TRANSP:OPAQUE
SEQUENCE:0
UID:5748-veranstaltung@kirche-wm.ch
DTSTAMP:20260324T070546Z
DESCRIPTION:Kontakt: Stephanie Gysel\n\nWeitere Infos:
  https://www.kirche-wm.ch/veranstaltung/5748
SUMMARY:Probe Adhoc Ensemble für 3. Mai
PRIORITY:5
X-MICROSOFT-CDO-IMPORTANCE:1
CLASS:PUBLIC
END:VEVENT
END:VCALENDAR
