BEGIN:VCALENDAR
PRODID:-//kirchenweb.ch gmbh//veranstaltungsausgabe v2.0//DE
VERSION:2.0
METHOD:PUBLISH
BEGIN:VEVENT
DTSTART:20260617T120000Z
DTEND:20260617T150000Z
LOCATION:Feuerwehrgebäude Marthalen\, Ruedelfingerstrass 10\, 8460
  Marthalen
TRANSP:OPAQUE
SEQUENCE:0
UID:5764-veranstaltung@kirche-wm.ch
DTSTAMP:20260407T065314Z
DESCRIPTION:Schulung zum Thema "Grenzverletzungen"\n\nAlle freiwilligen
  Mitarbeitenden der Kirchgemeinde Weinland Mitte sind herzlich
  eingeladen\, an der Schulung zum Thema "Grenzverletzungen" teilzunehmen.
 \n\nZur ersten Schulung kamen von vierzig Eingeladenen leider nur sechs
  Personen\, vermutlich weil viele am Mittwochnachmittag arbeiten. Dennoch
  war der Austausch unter der Leitung von Pfarrerin Sabine Scheuter sehr
  wertvoll. Im Zentrum stand der Verhaltenskodex der Landeskirche und
  weshalb die Kirchenpflege Strafregisterauszüge einfordern muss. Die
  Befürchtung der Freiwilligen\, man misstraue ihrer langjährigen
  Arbeit\, konnte im Gespräch weitgehend entkräftet werden und die
  Teilnehmenden zeigten Verständnis für die Notwendigkeit. Kritisiert
  wurde aber die Einführung ohne vorherige Schulungen und zu wenig
  Information.\n\nDie Kirchenpflege ist dafür verantwortlich\, dass alle
  freiwilligen Mitarbeitenden den Verhaltenskodex kennen und die
  geforderten Auszüge einreichen. Wir freuen uns auf Ihre Teilnahme.\n
 \nWir bieten folgende weitere Schulungstermine an:\nMittwoch\, 24. Juni
  2026\, 18-21 Uhr Aula in Ossingen\n\nKontakt: susanne.egloff@kirche-wm.ch
 \n\nWeitere Infos: https://www.kirche-wm.ch/veranstaltung/5764
SUMMARY:Schulung zum Thema "Grenzverletzungen"
PRIORITY:5
X-MICROSOFT-CDO-IMPORTANCE:1
CLASS:PUBLIC
END:VEVENT
END:VCALENDAR
