BEGIN:VCALENDAR
PRODID:-//kirchenweb.ch gmbh//veranstaltungsausgabe v2.0//DE
VERSION:2.0
METHOD:PUBLISH
BEGIN:VEVENT
DTSTART:20261121T093000Z
DTEND:20261121T123000Z
LOCATION:Kirchgemeindezentrum\, Poststrasse 6\, 8462 Rheinau
TRANSP:OPAQUE
SEQUENCE:0
UID:5772-veranstaltung@kirche-wm.ch
DTSTAMP:20260408T130505Z
DESCRIPTION:Kontakt: Sonja Gugelmann\, sonja.gugelmann@kirche-wm.ch\, 079
  766 39 10\n\n\n\nWeitere Infos:
  https://www.kirche-wm.ch/veranstaltung/5772
SUMMARY:Ökumenischer Kinderklub
PRIORITY:5
X-MICROSOFT-CDO-IMPORTANCE:1
CLASS:PUBLIC
END:VEVENT
END:VCALENDAR
